BEGIN:VCALENDAR
VERSION:2.0
PRODID:-//Adereth El - ECPv6.15.20//NONSGML v1.0//EN
CALSCALE:GREGORIAN
METHOD:PUBLISH
X-WR-CALNAME:Adereth El
X-ORIGINAL-URL:https://www.aderethel.org
X-WR-CALDESC:Events for Adereth El
REFRESH-INTERVAL;VALUE=DURATION:PT1H
X-Robots-Tag:noindex
X-PUBLISHED-TTL:PT1H
BEGIN:VTIMEZONE
TZID:America/New_York
BEGIN:DAYLIGHT
TZOFFSETFROM:-0500
TZOFFSETTO:-0400
TZNAME:EDT
DTSTART:20170312T070000
END:DAYLIGHT
BEGIN:STANDARD
TZOFFSETFROM:-0400
TZOFFSETTO:-0500
TZNAME:EST
DTSTART:20171105T060000
END:STANDARD
BEGIN:DAYLIGHT
TZOFFSETFROM:-0500
TZOFFSETTO:-0400
TZNAME:EDT
DTSTART:20180311T070000
END:DAYLIGHT
BEGIN:STANDARD
TZOFFSETFROM:-0400
TZOFFSETTO:-0500
TZNAME:EST
DTSTART:20181104T060000
END:STANDARD
BEGIN:DAYLIGHT
TZOFFSETFROM:-0500
TZOFFSETTO:-0400
TZNAME:EDT
DTSTART:20190310T070000
END:DAYLIGHT
BEGIN:STANDARD
TZOFFSETFROM:-0400
TZOFFSETTO:-0500
TZNAME:EST
DTSTART:20191103T060000
END:STANDARD
BEGIN:DAYLIGHT
TZOFFSETFROM:-0500
TZOFFSETTO:-0400
TZNAME:EDT
DTSTART:20200308T070000
END:DAYLIGHT
BEGIN:STANDARD
TZOFFSETFROM:-0400
TZOFFSETTO:-0500
TZNAME:EST
DTSTART:20201101T060000
END:STANDARD
END:VTIMEZONE
BEGIN:VEVENT
DTSTART;TZID=America/New_York:20190609T104500
DTEND;TZID=America/New_York:20190609T120000
DTSTAMP:20260423T165703
CREATED:20190607T182115Z
LAST-MODIFIED:20190607T192725Z
UID:2930-1560077100-1560081600@www.aderethel.org
SUMMARY:Tot Shavuot
DESCRIPTION:Calling all Children ages 5 and under! \nCome join Adereth El for a Tot Shavuot on Sunday June 9th at 10:45am where you can enjoy\, singing\, story telling\, lots of fun and an Ice Cream Kiddush to follow.
URL:https://www.aderethel.org/event/tot-shavuot/
LOCATION:Classroom
ATTACH;FMTTYPE=image/jpeg:https://www.aderethel.org/wp-content/uploads/2019/06/Tot-Shavuot-ice-cream-2019-4.jpg
END:VEVENT
BEGIN:VEVENT
DTSTART;TZID=America/New_York:20190608T233000
DTEND;TZID=America/New_York:20190609T044500
DTSTAMP:20260423T165703
CREATED:20190607T173556Z
LAST-MODIFIED:20190607T173556Z
UID:2919-1560036600-1560055500@www.aderethel.org
SUMMARY:Shavuot All Night Learning
DESCRIPTION:Come join Adereth El’s All Night Shavuot Learning Series on Saturday Night June 8th from 11:30 pm to 4:45 am. \nEnjoy engaging shiurim (classes) on a variety of topic. \nDelicious desserts will be served.
URL:https://www.aderethel.org/event/shavuot-all-night-learning/
LOCATION:Social Hall\, 133-135 East 29th Street\, New York\, NY\, 10016\, United States
CATEGORIES:Community,Lecture Series
ATTACH;FMTTYPE=image/jpeg:https://www.aderethel.org/wp-content/uploads/2019/06/Shavuot-Learn-all-Night-June-8-2019.jpg
END:VEVENT
BEGIN:VEVENT
DTSTART;TZID=America/New_York:20190607T190000
DTEND;TZID=America/New_York:20190610T210000
DTSTAMP:20260423T165703
CREATED:20190607T171941Z
LAST-MODIFIED:20190607T171941Z
UID:2913-1559934000-1560200400@www.aderethel.org
SUMMARY:Shavuot Schedule
DESCRIPTION:ADERETH EL SHAVUOT SCHEDULE 2019
URL:https://www.aderethel.org/event/shavuot-schedule/
LOCATION:NY
CATEGORIES:Community,Food,Lecture Series
ATTACH;FMTTYPE=image/jpeg:https://www.aderethel.org/wp-content/uploads/2019/06/Shavuot-Schedule-2019.jpg
END:VEVENT
BEGIN:VEVENT
DTSTART;TZID=America/New_York:20190602T110000
DTEND;TZID=America/New_York:20190602T160000
DTSTAMP:20260423T165703
CREATED:20190501T205220Z
LAST-MODIFIED:20190501T205239Z
UID:2861-1559473200-1559491200@www.aderethel.org
SUMMARY:Israeli Day Parade
DESCRIPTION:
URL:https://www.aderethel.org/event/israeli-day-parade-2/
LOCATION:NY
CATEGORIES:Community
ATTACH;FMTTYPE=image/png:https://www.aderethel.org/wp-content/uploads/2019/05/Israeli-Day-Parade-6.2.19.png
END:VEVENT
BEGIN:VEVENT
DTSTART;TZID=America/New_York:20190602T090000
DTEND;TZID=America/New_York:20190602T130000
DTSTAMP:20260423T165703
CREATED:20190501T205040Z
LAST-MODIFIED:20190501T205040Z
UID:2858-1559466000-1559480400@www.aderethel.org
SUMMARY:Bnai Zion Clothing & Linen Drive
DESCRIPTION:
URL:https://www.aderethel.org/event/bnai-zion-clothing-linen-drive/
LOCATION:Social Hall\, 133-135 East 29th Street\, New York\, NY\, 10016\, United States
CATEGORIES:Community
ATTACH;FMTTYPE=image/png:https://www.aderethel.org/wp-content/uploads/2019/05/Linen-Drive.png
END:VEVENT
BEGIN:VEVENT
DTSTART;TZID=America/New_York:20190601T113000
DTEND;TZID=America/New_York:20190601T130000
DTSTAMP:20260423T165703
CREATED:20190515T202744Z
LAST-MODIFIED:20190515T205517Z
UID:2884-1559388600-1559394000@www.aderethel.org
SUMMARY:Pre-Father's Day Kiddush
DESCRIPTION:Come join Adereth El as we celebrate all the Father’s in our community with a Kiddush sponsored by the Adereth El Sisterhood. Contributions are welcome by contacting the Shul office at 212-685-0241.
URL:https://www.aderethel.org/event/pre-fathers-day-kiddush/
LOCATION:Social Hall\, 133-135 East 29th Street\, New York\, NY\, 10016\, United States
CATEGORIES:Community,Food
ATTACH;FMTTYPE=image/jpeg:https://www.aderethel.org/wp-content/uploads/2019/05/Copy-of-FATHERS-DAY-KIDDUSH-2018-e1557957284196.jpg
END:VEVENT
BEGIN:VEVENT
DTSTART;TZID=America/New_York:20190518T120000
DTEND;TZID=America/New_York:20190518T130000
DTSTAMP:20260423T165703
CREATED:20190515T202317Z
LAST-MODIFIED:20190515T205050Z
UID:2880-1558180800-1558184400@www.aderethel.org
SUMMARY:Celebrate Israel Trivia
DESCRIPTION:Join us this Shabbat for the Big Israeli Trivia Game -lets have fun testing our knowledge as we celebrate Israel’s 71st Birthday!  Thank you to the World Zionist Organization for sponsoring this event.
URL:https://www.aderethel.org/event/celebrate-israel-trivia/
LOCATION:Social Hall\, 133-135 East 29th Street\, New York\, NY\, 10016\, United States
CATEGORIES:Community
ATTACH;FMTTYPE=image/jpeg:https://www.aderethel.org/wp-content/uploads/2019/05/Israel-celebration-5.18.19.jpg
END:VEVENT
BEGIN:VEVENT
DTSTART;TZID=America/New_York:20190517T200000
DTEND;TZID=America/New_York:20190517T230000
DTSTAMP:20260423T165703
CREATED:20190501T204716Z
LAST-MODIFIED:20190501T210413Z
UID:2855-1558123200-1558134000@www.aderethel.org
SUMMARY:Friday Night Community Dinner
DESCRIPTION:Come join Adereth El for our  Friday night community dinner to Celebrate Israel (Yom Ha’atzmaut and Yom Yerushalayim) on May 17\, 2019 at 8pm in the Social Hall. \nMembers:  Adult: $36 / Child: $15 \nNon Members: Adult: $42 / Child: $18
URL:https://www.aderethel.org/event/friday-night-community-dinner/
LOCATION:Social Hall\, 133-135 East 29th Street\, New York\, NY\, 10016\, United States
CATEGORIES:Community,Food
ATTACH;FMTTYPE=image/png:https://www.aderethel.org/wp-content/uploads/2019/05/Friday-Night-Dinner-5.17.png
END:VEVENT
BEGIN:VEVENT
DTSTART;TZID=America/New_York:20190420T200000
DTEND;TZID=America/New_York:20190420T233000
DTSTAMP:20260423T165703
CREATED:20190322T155320Z
LAST-MODIFIED:20190322T155656Z
UID:2678-1555790400-1555803000@www.aderethel.org
SUMMARY:Second Seder at Mendy's
DESCRIPTION:Join others in your Adereth El community on Saturday April 20th\, for the second Seder of Passover at Mendy’s Deli &amp; Restaurant – 61 E 34th Street\, New York NY 10016. A minimum of 30 people is required to make this event happen. \nThe cost per person will be $125 per person. Please RSVP by Monday\, April 15th. If this minimum isn’t met\, we will notified those who have registered and refund their payment. \nClick here to RSVP!!
URL:https://www.aderethel.org/event/second-seder-at-mendys/
LOCATION:Mendys\, 61 E 34th Street\, New York\, NY\, 10016\, United States
ATTACH;FMTTYPE=image/jpeg:https://www.aderethel.org/wp-content/uploads/2019/03/passover.jpg
END:VEVENT
BEGIN:VEVENT
DTSTART;TZID=America/New_York:20190330T113000
DTEND;TZID=America/New_York:20190330T120000
DTSTAMP:20260423T165703
CREATED:20190208T175337Z
LAST-MODIFIED:20190208T175337Z
UID:2658-1553945400-1553947200@www.aderethel.org
SUMMARY:Guest Speaker -Dan Mariaschin\, B’nai B’rith CEO
DESCRIPTION:We look forward to welcoming guest speaker Dan Mariaschin on Shabbat March 30th at 11:30am in the Main Sanctuary to discuss “Reflections After Pittsburgh: Anti-Semitism in the U.S. and Worldwide”. Dan Mariaschin is recognized globally for his depth and breadth of knowledge of today’s issues and the history that has led us to this point in time. As CEO\, Mariaschin is the public face of B’nai B’rith\, coordinating B’nai B’rith’s programs and policies on issues of concern to the Jewish community. Mariaschin publishes many op-eds each year\, is called upon as an expert source by news organizations\, chairs global panels and committees and hosts a podcast. Mariaschin meets with world leaders\, seeking to advance human rights\, protect the rights of Jewish communities worldwide and promote better relations with the State of Israel.
URL:https://www.aderethel.org/event/guest-speaker-dan-mariaschin-bnai-brith-ceo/
LOCATION:Main Sanctuary\, 133-135 East 29th Street\, New York\, NY\, 10016\, United States
CATEGORIES:Community,Lecture Series
ATTACH;FMTTYPE=image/jpeg:https://www.aderethel.org/wp-content/uploads/2019/02/Bnai-Brith-Mariaschin-3-30-29.jpg
END:VEVENT
BEGIN:VEVENT
DTSTART;VALUE=DATE:20190320
DTEND;VALUE=DATE:20190322
DTSTAMP:20260423T165703
CREATED:20190312T140510Z
LAST-MODIFIED:20190312T175431Z
UID:2671-1553040000-1553212799@www.aderethel.org
SUMMARY:Purim 2019
DESCRIPTION:Please join Adereth El for Purim this year. \nFirst Megillah Reading is Wednesday\, March 20 @ 7:45pm \nOn Purim Day we will have two Megillah Readings @ 7:10am and 12:15pm
URL:https://www.aderethel.org/event/purim-2019/
LOCATION:Main Sanctuary\, 133-135 East 29th Street\, New York\, NY\, 10016\, United States
ATTACH;FMTTYPE=image/png:https://www.aderethel.org/wp-content/uploads/2019/03/purim2019.png
END:VEVENT
BEGIN:VEVENT
DTSTART;TZID=America/New_York:20190319T173000
DTEND;TZID=America/New_York:20190319T210000
DTSTAMP:20260423T165703
CREATED:20190208T181449Z
LAST-MODIFIED:20190208T181449Z
UID:2661-1553016600-1553029200@www.aderethel.org
SUMMARY:Purim Carnival
DESCRIPTION:Come join Adereth El on Tuesday March 19th at 5:30pm for our Annual Family Purim Carnival featuring a bounce house\, face painting\, games\, arts and crafts\, raffle prizes and more.  Don’t forget your costumes!   \nAdmission is $20 per Family\nRaffle Tickets: 5$ for 1 ticket or $20 for 5 tickets \nPizza available for purchase.
URL:https://www.aderethel.org/event/purim-carnival/
LOCATION:Social Hall\, 133-135 East 29th Street\, New York\, NY\, 10016\, United States
CATEGORIES:Community,Food,Music
ATTACH;FMTTYPE=image/jpeg:https://www.aderethel.org/wp-content/uploads/2019/02/Purim-Carnival-raffle-UPDATED.jpg
END:VEVENT
BEGIN:VEVENT
DTSTART;TZID=America/New_York:20190316T104500
DTEND;TZID=America/New_York:20190316T113000
DTSTAMP:20260423T165703
CREATED:20181220T054023Z
LAST-MODIFIED:20181220T054023Z
UID:2539-1552733100-1552735800@www.aderethel.org
SUMMARY:Tot Shabbat Purim
DESCRIPTION:Come join us for our very special Purim themed Tot Shabbat class! Sing\, meet new friends & catch up with old ones. \nServices for children under 5 years of age
URL:https://www.aderethel.org/event/tot-shabbat-purim-2019/
LOCATION:Classroom
CATEGORIES:Community,Music,Outreach
ATTACH;FMTTYPE=image/jpeg:https://www.aderethel.org/wp-content/uploads/2018/12/tot-shabbat.jpg
END:VEVENT
BEGIN:VEVENT
DTSTART;TZID=America/New_York:20190309T113000
DTEND;TZID=America/New_York:20190309T120000
DTSTAMP:20260423T165703
CREATED:20181220T122047Z
LAST-MODIFIED:20190208T175423Z
UID:2545-1552131000-1552132800@www.aderethel.org
SUMMARY:Guest Speaker Ofir Dayan
DESCRIPTION:Join us as Ofir Dayan discusses the topic\, “Advocating for Israel on the College Campus” \nOfir Dayan\, is the President of Students Supporting Israel at Columbia University. She grew up in Maale Shomron\, in central Israel. Ofir served as an officer in field positions in the IDF spokesperson unit for 3.5 years\, including in operation Protective Edge. She is a sophomore studying Political Science at Columbia University.
URL:https://www.aderethel.org/event/guest-speaker-ofir-dayan/
LOCATION:Main Sanctuary\, 133-135 East 29th Street\, New York\, NY\, 10016\, United States
CATEGORIES:Lecture Series,Outreach
ATTACH;FMTTYPE=image/jpeg:https://www.aderethel.org/wp-content/uploads/2018/12/Ofir-Dayan-UPdated.jpg
END:VEVENT
BEGIN:VEVENT
DTSTART;TZID=America/New_York:20190302T203000
DTEND;TZID=America/New_York:20190302T203000
DTSTAMP:20260423T165703
CREATED:20190129T210416Z
LAST-MODIFIED:20190129T210416Z
UID:2650-1551558600-1551558600@www.aderethel.org
SUMMARY:Adereth El - Wine Tasting
DESCRIPTION:The Adereth El Sisterhood will host its annual wine tasting event on Saturday night\, March 2\, 2019 at 8:30PM.  Please join us for an enjoyable and relaxing evening where you can taste various wines presented by Professional experts who will also be able to answer any questions you may have.  \nIn addition you will be able to place an order for Pesach and the rest of the year which will be delivered to the Shul before the Holiday. \nAdmission:  $10 per person for members\, $12 per person for non-members.\nFamily and Friends welcome. \nPlease contact the Shul office by phone (212-685-0241) or email info@aderethel.org if you plan on attending or if you have questions.
URL:https://www.aderethel.org/event/adereth-el-wine-tasting/
LOCATION:Social Hall\, 133-135 East 29th Street\, New York\, NY\, 10016\, United States
CATEGORIES:Community
ATTACH;FMTTYPE=image/jpeg:https://www.aderethel.org/wp-content/uploads/2019/01/Wind-Tasting-Event-3.2.19.jpg
END:VEVENT
BEGIN:VEVENT
DTSTART;TZID=America/New_York:20190301T183000
DTEND;TZID=America/New_York:20190301T210000
DTSTAMP:20260423T165703
CREATED:20190128T150753Z
LAST-MODIFIED:20190128T150753Z
UID:2635-1551465000-1551474000@www.aderethel.org
SUMMARY:Friday Night Dinner-Shabbat Across America
DESCRIPTION:Join the Adereth El community for a warm and plentiful Friday-night dinner on March 1\, 2018\, at 6:30 PM to celebrate Shabbat Across America. Dinner will be preceded by Friday-night services at 5:35 PM. \n$36/Member Adult; $42/Non-Member Adult; $15/Member Child; $18/Non-Member Child \nPlease RSVP by Wednesday\, February 20th. \nTo RSVP please call (212) 685-0241\, email info@aderethel.org \nClick here to RSVP!!
URL:https://www.aderethel.org/event/friday-night-dinner-shabbat-across-america/
LOCATION:Social Hall\, 133-135 East 29th Street\, New York\, NY\, 10016\, United States
CATEGORIES:Community,Food
ATTACH;FMTTYPE=image/jpeg:https://www.aderethel.org/wp-content/uploads/2019/01/Shabbat-Dinner-Flyer-Shabbat-Across-America.jpg
END:VEVENT
BEGIN:VEVENT
DTSTART;TZID=America/New_York:20190202T113000
DTEND;TZID=America/New_York:20190202T120000
DTSTAMP:20260423T165703
CREATED:20190128T191029Z
LAST-MODIFIED:20190128T191029Z
UID:2647-1549107000-1549108800@www.aderethel.org
SUMMARY:Guest Speaker - Rabbi Michael Rosenzweig
DESCRIPTION:Please join us on Shabbat February 2\, 2019 at 11:30am in the Main Sanctuary as we host Guest Speaker Rabbi Michael Rosenzweig who will deliver a sermon titled: “Naaseh veNishma”  A Timeless Approach to Jewish Commitment\, Continuity\, and Halachic Idealism. \n  \nRabbi Michael Rosenzweig is the Rosh Yeshiva at Yeshiva University’s Rabbi Isaac Elchanan Theological Seminar and the Rosh Kollel of the Beren Kollel Elyon.   He occupies the Nathan and Perel Schupf chair in Talmud at RIETS.
URL:https://www.aderethel.org/event/guest-speaker-rabbi-michael-rosenzweig/
LOCATION:Main Sanctuary\, 133-135 East 29th Street\, New York\, NY\, 10016\, United States
CATEGORIES:Lecture Series
ATTACH;FMTTYPE=image/jpeg:https://www.aderethel.org/wp-content/uploads/2019/01/Rabbi-Michael-Rosenzweig.jpg
END:VEVENT
BEGIN:VEVENT
DTSTART;TZID=America/New_York:20190119T113000
DTEND;TZID=America/New_York:20190119T120000
DTSTAMP:20260423T165703
CREATED:20181228T192134Z
LAST-MODIFIED:20181228T192134Z
UID:2551-1547897400-1547899200@www.aderethel.org
SUMMARY:Guest Speaker Hilla Drechler
DESCRIPTION:Adereth El is proud to host guest speaker Hilla Drechler\, Representative of the Education Department in North America at the World Zionist Organization on Shabbat January 19th.  She will be speaking at 11:30 am in the main sanctuary. Hilla is a community leader who is deeply immersed in local and national socio-politics\, including issues concerning Zionism\, Jewish life and Israeli society \n 
URL:https://www.aderethel.org/event/guest-speaker-hilla-drechler/
LOCATION:Main Sanctuary\, 133-135 East 29th Street\, New York\, NY\, 10016\, United States
CATEGORIES:Lecture Series
ATTACH;FMTTYPE=image/jpeg:https://www.aderethel.org/wp-content/uploads/2018/12/Tu-BShvat-Guest-Speaker-1.19.19.jpg
END:VEVENT
BEGIN:VEVENT
DTSTART;TZID=America/New_York:20190119T104500
DTEND;TZID=America/New_York:20190119T113000
DTSTAMP:20260423T165703
CREATED:20181220T053842Z
LAST-MODIFIED:20181220T053842Z
UID:2537-1547894700-1547897400@www.aderethel.org
SUMMARY:Tot Shabbat Tu B'Shvat
DESCRIPTION:Come join us for our very special Tu B’Shvat themed Tot Shabbat class! Sing\, meet new friends & catch up with old ones. \nServices for children under 5 years of age
URL:https://www.aderethel.org/event/tot-shabbat-tu-bshvat-2019/
LOCATION:Classroom
CATEGORIES:Community,Music,Outreach
ATTACH;FMTTYPE=image/jpeg:https://www.aderethel.org/wp-content/uploads/2018/12/tot-shabbat.jpg
END:VEVENT
BEGIN:VEVENT
DTSTART;TZID=America/New_York:20190101T080000
DTEND;TZID=America/New_York:20190101T170000
DTSTAMP:20260423T165703
CREATED:20181220T054900Z
LAST-MODIFIED:20181220T055008Z
UID:2541-1546329600-1546362000@www.aderethel.org
SUMMARY:January Lecture Series
DESCRIPTION:Our January lectures series\, led by Rabbi Gideon Shloush\, will discuss the Jewish Life Cycles. \nKindly RSVP to rabbishloush@aderethel.org so that we can coordinate a schedule that works best for participants.
URL:https://www.aderethel.org/event/january-lecture-series/
LOCATION:Main Sanctuary\, 133-135 East 29th Street\, New York\, NY\, 10016\, United States
CATEGORIES:Community,Lecture Series
ATTACH;FMTTYPE=image/jpeg:https://www.aderethel.org/wp-content/uploads/2018/12/lecture-series.jpg
END:VEVENT
BEGIN:VEVENT
DTSTART;TZID=America/New_York:20181216T100000
DTEND;TZID=America/New_York:20181216T120000
DTSTAMP:20260423T165703
CREATED:20181108T180016Z
LAST-MODIFIED:20181108T180206Z
UID:2490-1544954400-1544961600@www.aderethel.org
SUMMARY:Clothing and Linen Drive
DESCRIPTION:On Sunday\, December 16 from 10:00 AM – 12:00 PM we will host a Clothing and Linen Drive for needy families in Israel. Seeking infant to adult clothing in excellent condition. If you don’t have clothing to contribute or if you would like to give an additional contribution\, ship a box to a family for $36. All clothing and funds will be donated to Yad Leah\, a project of Bnai Zion Foundation.
URL:https://www.aderethel.org/event/clothing-and-linen-drive/
LOCATION:Social Hall\, 133-135 East 29th Street\, New York\, NY\, 10016\, United States
CATEGORIES:Community
ATTACH;FMTTYPE=application/pdf:https://www.aderethel.org/wp-content/uploads/2018/11/Aderith-El-Clothing-Drive.pdf
END:VEVENT
BEGIN:VEVENT
DTSTART;TZID=America/New_York:20181205T180000
DTEND;TZID=America/New_York:20181205T200000
DTSTAMP:20260423T165703
CREATED:20181119T155742Z
LAST-MODIFIED:20181119T155742Z
UID:2503-1544032800-1544040000@www.aderethel.org
SUMMARY:Channukah Raffle 2018
DESCRIPTION:Please join us for our Chanukah Raffle and enjoy a sumptuous dinner\, children’s program and fabulous prizes. \nFeaturing an evening of laughter with Allen Lewis Rickman & Yelena Shmulenson. \nPrizes Include: Nintendo Switch gaming system\, Elegant Tourneau Watches\, Saint Laurent (YSL) handbag\, 2 Tickets to New York Giants Game\, Catered Dinner for 10 by the Village Crown\, Tiffany’s Jewelry\, Night on Broadway for two\, Abigael’s Restaurant Dinner for 2\, Macy’s gift card & Teeth Whitening. \n$25/ticket\n$100/5 tickets \nBuy Raffle Tickets!!
URL:https://www.aderethel.org/event/channukah-raffle-2018/
LOCATION:Social Hall\, 133-135 East 29th Street\, New York\, NY\, 10016\, United States
ATTACH;FMTTYPE=image/jpeg:https://www.aderethel.org/wp-content/uploads/2018/11/channukah-2018.jpg
END:VEVENT
BEGIN:VEVENT
DTSTART;TZID=America/New_York:20181201T090000
DTEND;TZID=America/New_York:20181201T120000
DTSTAMP:20260423T165703
CREATED:20181107T164343Z
LAST-MODIFIED:20181107T164601Z
UID:2481-1543654800-1543665600@www.aderethel.org
SUMMARY:Shabbat Chazzanut
DESCRIPTION:Please join us on Shabbat\, December 1 for a special Shabbat Chazzanut featuring Chazan Michael Sobol. Chazan Sobol will lead the Congregation in morning services with classic Chazzanut tunes. He learned Nussach and Chazzanut from the great Cantors in Basel\, Switzerland (Israel Karmon\, Marcel (Moshe) Lang\, Issachar Helman). Chazan Sobol cultivates their style and combines in a fantastic way classical Chazzanut pieces with contemporary congregational singing.  \nShabbat\, December 1st
URL:https://www.aderethel.org/event/shabbat-chazzanut-copy/
LOCATION:Main Sanctuary\, 133-135 East 29th Street\, New York\, NY\, 10016\, United States
ATTACH;FMTTYPE=application/pdf:https://www.aderethel.org/wp-content/uploads/2018/11/shabbat-chazzan-2.pdf
END:VEVENT
BEGIN:VEVENT
DTSTART;TZID=America/New_York:20181130T173000
DTEND;TZID=America/New_York:20181130T173000
DTSTAMP:20260423T165703
CREATED:20181107T163644Z
LAST-MODIFIED:20181107T164252Z
UID:2477-1543599000-1543599000@www.aderethel.org
SUMMARY:Community Friday Night Dinner
DESCRIPTION:Join the Adereth El community for a warm and plentiful Friday-night dinner on November 30\, 2018\, at 5:30 PM. Preceded by spirited Carlebach-style Friday-night services at 4:35 PM. \n$36/Member Adult; $42/Non-Member Adult; $15/Member Child; $18/Non-Member Child \nTo RSVP please call (212) 685-0241 or email info@aderethel.org
URL:https://www.aderethel.org/event/community-friday-night-dinner-copy/
LOCATION:NY
CATEGORIES:Community,Food,Music
ATTACH;FMTTYPE=application/pdf:https://www.aderethel.org/wp-content/uploads/2018/11/Pizza-Photo-Dinner-Menu-1.pdf
END:VEVENT
BEGIN:VEVENT
DTSTART;TZID=America/New_York:20181116T173000
DTEND;TZID=America/New_York:20181116T173000
DTSTAMP:20260423T165703
CREATED:20181019T173336Z
LAST-MODIFIED:20181019T173336Z
UID:2448-1542389400-1542389400@www.aderethel.org
SUMMARY:Family Shabbat
DESCRIPTION:Adereth El & Aleph Bet Preschool invites you to join us for a Family Shabbat Dinner on Friday\, Novemember 16th at 5:30pm. The meal will be followed by singing\, story time and make your own dessert. \n$25/Adult; $10/Child over the age of 3. \nTo RSVP please call (212) 685-0241 or email info@aderethel.org
URL:https://www.aderethel.org/event/family-shabbat/
LOCATION:NY
CATEGORIES:Community,Food,Music
ATTACH;FMTTYPE=image/png:https://www.aderethel.org/wp-content/uploads/2018/10/FamilyShabbat_111618.png
END:VEVENT
BEGIN:VEVENT
DTSTART;TZID=America/New_York:20181109T163000
DTEND;TZID=America/New_York:20181110T140000
DTSTAMP:20260423T165703
CREATED:20181107T164819Z
LAST-MODIFIED:20181107T165150Z
UID:2485-1541781000-1541858400@www.aderethel.org
SUMMARY:Baruch College Hillel Shabbaton Weekend at Adereth El
DESCRIPTION:We are pleased to announce that on Shabbat\, November 9-10 Baruch College Hillel will be hosting a Shabbaton here at Adereth El. Kiddush this Shabbat will generously be sponsored by the Baruch College Hillel.
URL:https://www.aderethel.org/event/baruch-college-hillel-shabbaton-weekend-at-adereth-el/
LOCATION:Social Hall\, 133-135 East 29th Street\, New York\, NY\, 10016\, United States
CATEGORIES:Community,Food
ATTACH;FMTTYPE=application/pdf:https://www.aderethel.org/wp-content/uploads/2018/11/Copy-of-Shabbaton-11.09.18-3.pdf
END:VEVENT
BEGIN:VEVENT
DTSTART;TZID=America/New_York:20181103T113000
DTEND;TZID=America/New_York:20181103T120000
DTSTAMP:20260423T165703
CREATED:20181019T173622Z
LAST-MODIFIED:20181019T173946Z
UID:2456-1541244600-1541246400@www.aderethel.org
SUMMARY:Speaker: Justice Shlomo Hagler
DESCRIPTION:Come join us for Shabbat and hear our special guest speaker Manhattan Supreme Court Justice Shlomo Hagler offer his talk on “Perspectives on the Kavanaugh Hearings” \nShabbat\, November 3rd @ 11:30am
URL:https://www.aderethel.org/event/justice-shlomo-hagler/
LOCATION:Main Sanctuary\, 133-135 East 29th Street\, New York\, NY\, 10016\, United States
ATTACH;FMTTYPE=image/png:https://www.aderethel.org/wp-content/uploads/2018/10/JusticeShlomoHagler-e1539974254584.png
END:VEVENT
BEGIN:VEVENT
DTSTART;TZID=America/New_York:20181027T113000
DTEND;TZID=America/New_York:20181027T133000
DTSTAMP:20260423T165703
CREATED:20181019T180710Z
LAST-MODIFIED:20181019T202847Z
UID:2461-1540639800-1540647000@www.aderethel.org
SUMMARY:Speaker: Weatherman Dave Price
DESCRIPTION:Join us on Shabbat when NY4 Weatherman Dave Price will give a lecture titled “Tales if a Kosher Weatherman” around 11:30am \nServices will be followed by a Kidsush honoring our persons of the year: Joseph & Olga Garay
URL:https://www.aderethel.org/event/news4ny-weatherman-guest-speaker-persons-of-the-year-kiddush/
LOCATION:Main Sanctuary\, 133-135 East 29th Street\, New York\, NY\, 10016\, United States
CATEGORIES:Community,Food
ATTACH;FMTTYPE=image/jpeg:https://www.aderethel.org/wp-content/uploads/2018/10/Red-with-Academy-Award-and-Stars-Hollywood-Prom-Poster-1.jpg
END:VEVENT
BEGIN:VEVENT
DTSTART;TZID=America/New_York:20180927T180000
DTEND;TZID=America/New_York:20180927T200000
DTSTAMP:20260423T165703
CREATED:20180913T123810Z
LAST-MODIFIED:20180913T164221Z
UID:2411-1538071200-1538078400@www.aderethel.org
SUMMARY:Sukkot Bar-B-Que
DESCRIPTION:Save the date for an evening of fun\, friends and food on Thursday\, September 27 at 6:00 PM. Come say hello to your old friends and make some new ones too! Children ages two and below\, join us for free.\nRSVP to the Shul office (212) 685-0241\n$25/adult\, $15/child\, $65/family. \nBurger BBQ Birthday Invitation (Portrait) \nRSVP for this event
URL:https://www.aderethel.org/event/sukkot-bbq-2018/
LOCATION:Social Hall\, 133-135 East 29th Street\, New York\, NY\, 10016\, United States
CATEGORIES:Community,Food
ATTACH;FMTTYPE=image/jpeg:https://www.aderethel.org/wp-content/uploads/2018/05/bbq.jpg
END:VEVENT
BEGIN:VEVENT
DTSTART;TZID=America/New_York:20180619T190000
DTEND;TZID=America/New_York:20180619T203000
DTSTAMP:20260423T165703
CREATED:20180515T142950Z
LAST-MODIFIED:20180515T142950Z
UID:2057-1529434800-1529440200@www.aderethel.org
SUMMARY:Annual Membership Meeting
DESCRIPTION:On Tuesday\, June 19\, there will be a General Membership meeting at 7:00 PM in the Synagogue. In addition to general matters\, which may be discussed\, there will be a slate of Officers and Trustees presented for ratification. \nAll members who have paid 2018 dues are permitted and encouraged to come and discuss all the important matters facing our Shul as well as participate in any election of board members. Any arrears due to the Shul can be paid either before the meeting or at the meeting in order to participate.
URL:https://www.aderethel.org/event/annual-membership-meeting/
LOCATION:Main Sanctuary\, 133-135 East 29th Street\, New York\, NY\, 10016\, United States
CATEGORIES:Community
ATTACH;FMTTYPE=image/jpeg:https://www.aderethel.org/wp-content/uploads/2015/06/lion.jpg
END:VEVENT
END:VCALENDAR