BEGIN:VCALENDAR
VERSION:2.0
PRODID:-//Adereth El - ECPv6.15.20//NONSGML v1.0//EN
CALSCALE:GREGORIAN
METHOD:PUBLISH
X-WR-CALNAME:Adereth El
X-ORIGINAL-URL:https://www.aderethel.org
X-WR-CALDESC:Events for Adereth El
REFRESH-INTERVAL;VALUE=DURATION:PT1H
X-Robots-Tag:noindex
X-PUBLISHED-TTL:PT1H
BEGIN:VTIMEZONE
TZID:America/New_York
BEGIN:DAYLIGHT
TZOFFSETFROM:-0500
TZOFFSETTO:-0400
TZNAME:EDT
DTSTART:20180311T070000
END:DAYLIGHT
BEGIN:STANDARD
TZOFFSETFROM:-0400
TZOFFSETTO:-0500
TZNAME:EST
DTSTART:20181104T060000
END:STANDARD
BEGIN:DAYLIGHT
TZOFFSETFROM:-0500
TZOFFSETTO:-0400
TZNAME:EDT
DTSTART:20190310T070000
END:DAYLIGHT
BEGIN:STANDARD
TZOFFSETFROM:-0400
TZOFFSETTO:-0500
TZNAME:EST
DTSTART:20191103T060000
END:STANDARD
BEGIN:DAYLIGHT
TZOFFSETFROM:-0500
TZOFFSETTO:-0400
TZNAME:EDT
DTSTART:20200308T070000
END:DAYLIGHT
BEGIN:STANDARD
TZOFFSETFROM:-0400
TZOFFSETTO:-0500
TZNAME:EST
DTSTART:20201101T060000
END:STANDARD
BEGIN:DAYLIGHT
TZOFFSETFROM:-0500
TZOFFSETTO:-0400
TZNAME:EDT
DTSTART:20210314T070000
END:DAYLIGHT
BEGIN:STANDARD
TZOFFSETFROM:-0400
TZOFFSETTO:-0500
TZNAME:EST
DTSTART:20211107T060000
END:STANDARD
BEGIN:DAYLIGHT
TZOFFSETFROM:-0500
TZOFFSETTO:-0400
TZNAME:EDT
DTSTART:20220313T070000
END:DAYLIGHT
BEGIN:STANDARD
TZOFFSETFROM:-0400
TZOFFSETTO:-0500
TZNAME:EST
DTSTART:20221106T060000
END:STANDARD
END:VTIMEZONE
BEGIN:VEVENT
DTSTART;TZID=America/New_York:20211129T183000
DTEND;TZID=America/New_York:20211129T193000
DTSTAMP:20260423T153436
CREATED:20211126T184344Z
LAST-MODIFIED:20211126T184435Z
UID:3639-1638210600-1638214200@www.aderethel.org
SUMMARY:Weekly Haftarah Class
DESCRIPTION:With Rhianonon Chajmovicz \nMonday Nights at 6:30pm in the Adereth El Library. All are welcome. \nRhiannon is a senior at Baruch College where she is pursuing a degree in Economics. While in college\, she spent her time attending and teaching Torah classes at Hillel. Before that\, she took a gap year in Israel to study in Midrasha. Rhiannon is passionate about many Jewish causes\, especially Jewish education.
URL:https://www.aderethel.org/event/weekly-haftarah-class/
LOCATION:Adereth El\, 133-135 East 29th Street\, New York\, NY\, 10016\, United States
CATEGORIES:Community,Lecture Series
ATTACH;FMTTYPE=image/jpeg:https://www.aderethel.org/wp-content/uploads/2021/11/weekly_haftorah.jpg
END:VEVENT
BEGIN:VEVENT
DTSTART;TZID=America/New_York:20200104T120000
DTEND;TZID=America/New_York:20200104T130000
DTSTAMP:20260423T153436
CREATED:20200102T162413Z
LAST-MODIFIED:20200102T170516Z
UID:3308-1578139200-1578142800@www.aderethel.org
SUMMARY:Guest Speaker - Shabbat January 4th
DESCRIPTION:Did you know that Israel is the Vegan Capital of the world? \n  \nJoin us this Shabbat\, January 4th at 12:00pm in the Social Hall following morning services to learn about this Vegan Revolution with Or Adi\, WZO’s Department for Diaspora Affairs Shlicha and Vegan Advocate.
URL:https://www.aderethel.org/event/guest-speaker-shabbat-january-4th/
LOCATION:Social Hall\, 133-135 East 29th Street\, New York\, NY\, 10016\, United States
CATEGORIES:Community,Lecture Series
ATTACH;FMTTYPE=image/png:https://www.aderethel.org/wp-content/uploads/2020/01/Vegan-Revolution-UPDATETD.png
END:VEVENT
BEGIN:VEVENT
DTSTART;TZID=America/New_York:20191109T113000
DTEND;TZID=America/New_York:20191109T120000
DTSTAMP:20260423T153436
CREATED:20191008T040618Z
LAST-MODIFIED:20191008T043445Z
UID:3116-1573299000-1573300800@www.aderethel.org
SUMMARY:David Ushery Speaks at Adereth El
DESCRIPTION:Please join us on Saturday November 9th for a lecture from WNBC Anchor David Ushery following morning services.
URL:https://www.aderethel.org/event/david-ushery-speaks-at-adereth-el/
LOCATION:Main Sanctuary\, 133-135 East 29th Street\, New York\, NY\, 10016\, United States
CATEGORIES:Community,Lecture Series
ATTACH;FMTTYPE=image/jpeg:https://www.aderethel.org/wp-content/uploads/2019/10/David-Ushery-Nov-9-2019.jpg
END:VEVENT
BEGIN:VEVENT
DTSTART;TZID=America/New_York:20191102T101500
DTEND;TZID=America/New_York:20191102T103000
DTSTAMP:20260423T153436
CREATED:20191029T154221Z
LAST-MODIFIED:20191029T155748Z
UID:3134-1572689700-1572690600@www.aderethel.org
SUMMARY:Guest Speaker - Dr. Isaac Schechter- Shabbat November 2nd\, 2019
DESCRIPTION:Adereth El welcomes Dr. Isaac Schechter on Shabbat November 2nd who will deliver the sermon titled during Morning Services titled\, “A Leaning Tower of Babel: Reflections on Vulnerability in the Jewish Experience“. \nDr. Schechter is a leader and innovator in behavioral health in the Jewish community. He started and runs ACHIEVE Behavioral Health in Monsey and Monroe\, NY\, centers of Hasidic Jewish communities. ACHIEVE is a NY State licensed behavioral health center and is a federally designated Certified Community Behavioral Health Center bringing a very wide range of high level clinical services to the community. Their mission is to provide the highest level of care and create sustainable and innovative models for the future. In an effort to enhance data-driven decision making in the community\, he founded the Institute for Applied Research and Community Collaboration (ARCC) to study the health\, behavioral health and social issues in the Orthodox Jewish community. He has presented at many international conferences\, published multiple papers and book chapters about these topics\, and has supervised hundreds of students and early career clinicians.
URL:https://www.aderethel.org/event/guest-speaker-dr-isaac-schechter-shabbat-november-2nd-2019/
LOCATION:Main Sanctuary\, 133-135 East 29th Street\, New York\, NY\, 10016\, United States
CATEGORIES:Community,Lecture Series
ATTACH;FMTTYPE=image/jpeg:https://www.aderethel.org/wp-content/uploads/2019/10/Dr-Isaac-Schechter-Guest-Speaker-Shabbat-Nov-2-2019.jpg
END:VEVENT
BEGIN:VEVENT
DTSTART;TZID=America/New_York:20191025T183000
DTEND;TZID=America/New_York:20191025T190000
DTSTAMP:20260423T153436
CREATED:20191016T053100Z
LAST-MODIFIED:20191018T030304Z
UID:3121-1572028200-1572030000@www.aderethel.org
SUMMARY:#ShowUpForShabbat - Guest Speaker Thomas DiNapoli
DESCRIPTION:Adereth El welcomes Thomas DiNapoli\, New York State Comptroller\, on Friday evening October 25th\, to share greetings following Evening Services in the main sanctuary.  We also welcome Rabbi Joseph Potasnik\, Executive VP of the NY Board of Rabbis this evening. \nOctober 27th is the one year anniversary of the tragic Pittsburgh shooting at the Tree of Life Synagogue where 11 innocent congregants were killed.  As an expression of solidarity\, we encourage all jews around the world to ShowUpForShabbat and we cordially invite you to take the first step and attend Friday nights lecture as well as Services on Shabbat October 26th.
URL:https://www.aderethel.org/event/showupforshabbat-guest-speaker-thomas-dinapoli/
LOCATION:Main Sanctuary\, 133-135 East 29th Street\, New York\, NY\, 10016\, United States
CATEGORIES:Lecture Series,Outreach
ATTACH;FMTTYPE=image/jpeg:https://www.aderethel.org/wp-content/uploads/2019/10/UPDATED-AGAIN-ShowUpForShabbat-Thomas-DiNapoli-10.25.19.jpg
END:VEVENT
BEGIN:VEVENT
DTSTART;TZID=America/New_York:20190611T190000
DTEND;TZID=America/New_York:20190611T203000
DTSTAMP:20260423T153436
CREATED:20190607T181121Z
LAST-MODIFIED:20190607T181121Z
UID:2928-1560279600-1560285000@www.aderethel.org
SUMMARY:David Berg Lecture Series
DESCRIPTION:2 more Tuesdays left to join a FREE Crash Course in Basic Judaism at Lincoln Square Synagogue.   \nJune 11th – 7:00 pm\nJune 18th – 7:30 pm \nTo Register go to njop.org/ccbj
URL:https://www.aderethel.org/event/david-berg-lecture-series/
LOCATION:Lincoln Square Synagogue\, 180 Amsterdam Ave\, New York\, 10023\, United States
CATEGORIES:Lecture Series
ATTACH;FMTTYPE=image/jpeg:https://www.aderethel.org/wp-content/uploads/2019/06/BergCCBJ2019.flyer-4.jpg
END:VEVENT
BEGIN:VEVENT
DTSTART;TZID=America/New_York:20190608T233000
DTEND;TZID=America/New_York:20190609T044500
DTSTAMP:20260423T153436
CREATED:20190607T173556Z
LAST-MODIFIED:20190607T173556Z
UID:2919-1560036600-1560055500@www.aderethel.org
SUMMARY:Shavuot All Night Learning
DESCRIPTION:Come join Adereth El’s All Night Shavuot Learning Series on Saturday Night June 8th from 11:30 pm to 4:45 am. \nEnjoy engaging shiurim (classes) on a variety of topic. \nDelicious desserts will be served.
URL:https://www.aderethel.org/event/shavuot-all-night-learning/
LOCATION:Social Hall\, 133-135 East 29th Street\, New York\, NY\, 10016\, United States
CATEGORIES:Community,Lecture Series
ATTACH;FMTTYPE=image/jpeg:https://www.aderethel.org/wp-content/uploads/2019/06/Shavuot-Learn-all-Night-June-8-2019.jpg
END:VEVENT
BEGIN:VEVENT
DTSTART;TZID=America/New_York:20190607T190000
DTEND;TZID=America/New_York:20190610T210000
DTSTAMP:20260423T153436
CREATED:20190607T171941Z
LAST-MODIFIED:20190607T171941Z
UID:2913-1559934000-1560200400@www.aderethel.org
SUMMARY:Shavuot Schedule
DESCRIPTION:ADERETH EL SHAVUOT SCHEDULE 2019
URL:https://www.aderethel.org/event/shavuot-schedule/
LOCATION:NY
CATEGORIES:Community,Food,Lecture Series
ATTACH;FMTTYPE=image/jpeg:https://www.aderethel.org/wp-content/uploads/2019/06/Shavuot-Schedule-2019.jpg
END:VEVENT
BEGIN:VEVENT
DTSTART;TZID=America/New_York:20190330T113000
DTEND;TZID=America/New_York:20190330T120000
DTSTAMP:20260423T153436
CREATED:20190208T175337Z
LAST-MODIFIED:20190208T175337Z
UID:2658-1553945400-1553947200@www.aderethel.org
SUMMARY:Guest Speaker -Dan Mariaschin\, B’nai B’rith CEO
DESCRIPTION:We look forward to welcoming guest speaker Dan Mariaschin on Shabbat March 30th at 11:30am in the Main Sanctuary to discuss “Reflections After Pittsburgh: Anti-Semitism in the U.S. and Worldwide”. Dan Mariaschin is recognized globally for his depth and breadth of knowledge of today’s issues and the history that has led us to this point in time. As CEO\, Mariaschin is the public face of B’nai B’rith\, coordinating B’nai B’rith’s programs and policies on issues of concern to the Jewish community. Mariaschin publishes many op-eds each year\, is called upon as an expert source by news organizations\, chairs global panels and committees and hosts a podcast. Mariaschin meets with world leaders\, seeking to advance human rights\, protect the rights of Jewish communities worldwide and promote better relations with the State of Israel.
URL:https://www.aderethel.org/event/guest-speaker-dan-mariaschin-bnai-brith-ceo/
LOCATION:Main Sanctuary\, 133-135 East 29th Street\, New York\, NY\, 10016\, United States
CATEGORIES:Community,Lecture Series
ATTACH;FMTTYPE=image/jpeg:https://www.aderethel.org/wp-content/uploads/2019/02/Bnai-Brith-Mariaschin-3-30-29.jpg
END:VEVENT
BEGIN:VEVENT
DTSTART;TZID=America/New_York:20190309T113000
DTEND;TZID=America/New_York:20190309T120000
DTSTAMP:20260423T153436
CREATED:20181220T122047Z
LAST-MODIFIED:20190208T175423Z
UID:2545-1552131000-1552132800@www.aderethel.org
SUMMARY:Guest Speaker Ofir Dayan
DESCRIPTION:Join us as Ofir Dayan discusses the topic\, “Advocating for Israel on the College Campus” \nOfir Dayan\, is the President of Students Supporting Israel at Columbia University. She grew up in Maale Shomron\, in central Israel. Ofir served as an officer in field positions in the IDF spokesperson unit for 3.5 years\, including in operation Protective Edge. She is a sophomore studying Political Science at Columbia University.
URL:https://www.aderethel.org/event/guest-speaker-ofir-dayan/
LOCATION:Main Sanctuary\, 133-135 East 29th Street\, New York\, NY\, 10016\, United States
CATEGORIES:Lecture Series,Outreach
ATTACH;FMTTYPE=image/jpeg:https://www.aderethel.org/wp-content/uploads/2018/12/Ofir-Dayan-UPdated.jpg
END:VEVENT
BEGIN:VEVENT
DTSTART;TZID=America/New_York:20190202T113000
DTEND;TZID=America/New_York:20190202T120000
DTSTAMP:20260423T153436
CREATED:20190128T191029Z
LAST-MODIFIED:20190128T191029Z
UID:2647-1549107000-1549108800@www.aderethel.org
SUMMARY:Guest Speaker - Rabbi Michael Rosenzweig
DESCRIPTION:Please join us on Shabbat February 2\, 2019 at 11:30am in the Main Sanctuary as we host Guest Speaker Rabbi Michael Rosenzweig who will deliver a sermon titled: “Naaseh veNishma”  A Timeless Approach to Jewish Commitment\, Continuity\, and Halachic Idealism. \n  \nRabbi Michael Rosenzweig is the Rosh Yeshiva at Yeshiva University’s Rabbi Isaac Elchanan Theological Seminar and the Rosh Kollel of the Beren Kollel Elyon.   He occupies the Nathan and Perel Schupf chair in Talmud at RIETS.
URL:https://www.aderethel.org/event/guest-speaker-rabbi-michael-rosenzweig/
LOCATION:Main Sanctuary\, 133-135 East 29th Street\, New York\, NY\, 10016\, United States
CATEGORIES:Lecture Series
ATTACH;FMTTYPE=image/jpeg:https://www.aderethel.org/wp-content/uploads/2019/01/Rabbi-Michael-Rosenzweig.jpg
END:VEVENT
BEGIN:VEVENT
DTSTART;TZID=America/New_York:20190119T113000
DTEND;TZID=America/New_York:20190119T120000
DTSTAMP:20260423T153436
CREATED:20181228T192134Z
LAST-MODIFIED:20181228T192134Z
UID:2551-1547897400-1547899200@www.aderethel.org
SUMMARY:Guest Speaker Hilla Drechler
DESCRIPTION:Adereth El is proud to host guest speaker Hilla Drechler\, Representative of the Education Department in North America at the World Zionist Organization on Shabbat January 19th.  She will be speaking at 11:30 am in the main sanctuary. Hilla is a community leader who is deeply immersed in local and national socio-politics\, including issues concerning Zionism\, Jewish life and Israeli society \n 
URL:https://www.aderethel.org/event/guest-speaker-hilla-drechler/
LOCATION:Main Sanctuary\, 133-135 East 29th Street\, New York\, NY\, 10016\, United States
CATEGORIES:Lecture Series
ATTACH;FMTTYPE=image/jpeg:https://www.aderethel.org/wp-content/uploads/2018/12/Tu-BShvat-Guest-Speaker-1.19.19.jpg
END:VEVENT
BEGIN:VEVENT
DTSTART;TZID=America/New_York:20190101T080000
DTEND;TZID=America/New_York:20190101T170000
DTSTAMP:20260423T153436
CREATED:20181220T054900Z
LAST-MODIFIED:20181220T055008Z
UID:2541-1546329600-1546362000@www.aderethel.org
SUMMARY:January Lecture Series
DESCRIPTION:Our January lectures series\, led by Rabbi Gideon Shloush\, will discuss the Jewish Life Cycles. \nKindly RSVP to rabbishloush@aderethel.org so that we can coordinate a schedule that works best for participants.
URL:https://www.aderethel.org/event/january-lecture-series/
LOCATION:Main Sanctuary\, 133-135 East 29th Street\, New York\, NY\, 10016\, United States
CATEGORIES:Community,Lecture Series
ATTACH;FMTTYPE=image/jpeg:https://www.aderethel.org/wp-content/uploads/2018/12/lecture-series.jpg
END:VEVENT
END:VCALENDAR