BEGIN:VCALENDAR
VERSION:2.0
PRODID:-//Adereth El - ECPv6.15.20//NONSGML v1.0//EN
CALSCALE:GREGORIAN
METHOD:PUBLISH
X-ORIGINAL-URL:https://www.aderethel.org
X-WR-CALDESC:Events for Adereth El
REFRESH-INTERVAL;VALUE=DURATION:PT1H
X-Robots-Tag:noindex
X-PUBLISHED-TTL:PT1H
BEGIN:VTIMEZONE
TZID:America/New_York
BEGIN:DAYLIGHT
TZOFFSETFROM:-0500
TZOFFSETTO:-0400
TZNAME:EDT
DTSTART:20170312T070000
END:DAYLIGHT
BEGIN:STANDARD
TZOFFSETFROM:-0400
TZOFFSETTO:-0500
TZNAME:EST
DTSTART:20171105T060000
END:STANDARD
BEGIN:DAYLIGHT
TZOFFSETFROM:-0500
TZOFFSETTO:-0400
TZNAME:EDT
DTSTART:20180311T070000
END:DAYLIGHT
BEGIN:STANDARD
TZOFFSETFROM:-0400
TZOFFSETTO:-0500
TZNAME:EST
DTSTART:20181104T060000
END:STANDARD
BEGIN:DAYLIGHT
TZOFFSETFROM:-0500
TZOFFSETTO:-0400
TZNAME:EDT
DTSTART:20190310T070000
END:DAYLIGHT
BEGIN:STANDARD
TZOFFSETFROM:-0400
TZOFFSETTO:-0500
TZNAME:EST
DTSTART:20191103T060000
END:STANDARD
BEGIN:DAYLIGHT
TZOFFSETFROM:-0500
TZOFFSETTO:-0400
TZNAME:EDT
DTSTART:20200308T070000
END:DAYLIGHT
BEGIN:STANDARD
TZOFFSETFROM:-0400
TZOFFSETTO:-0500
TZNAME:EST
DTSTART:20201101T060000
END:STANDARD
BEGIN:DAYLIGHT
TZOFFSETFROM:-0500
TZOFFSETTO:-0400
TZNAME:EDT
DTSTART:20210314T070000
END:DAYLIGHT
BEGIN:STANDARD
TZOFFSETFROM:-0400
TZOFFSETTO:-0500
TZNAME:EST
DTSTART:20211107T060000
END:STANDARD
END:VTIMEZONE
BEGIN:VEVENT
DTSTART;TZID=America/New_York:20200308T160000
DTEND;TZID=America/New_York:20200308T180000
DTSTAMP:20260423T155536
CREATED:20200223T165134Z
LAST-MODIFIED:20200223T165155Z
UID:3355-1583683200-1583690400@www.aderethel.org
SUMMARY:Purim Carnival 2020
DESCRIPTION:PLease join Adereth El on Sunday March 8th from 4:00pm- 6:00pm for our annual Purim Carnival. \nAdmission is $20 per Family and Pizza will be available for purchase.
URL:https://www.aderethel.org/event/purim-carnival-2020/
LOCATION:Adereth El\, 133-135 East 29th Street\, New York\, NY\, 10016\, United States
CATEGORIES:Community,Food
ATTACH;FMTTYPE=image/jpeg:https://www.aderethel.org/wp-content/uploads/2020/02/Purim-Carnival-Flyer-2020-scaled.jpg
END:VEVENT
BEGIN:VEVENT
DTSTART;TZID=America/New_York:20200307T200000
DTEND;TZID=America/New_York:20200307T200000
DTSTAMP:20260423T155536
CREATED:20200212T033652Z
LAST-MODIFIED:20200212T033652Z
UID:3348-1583611200-1583611200@www.aderethel.org
SUMMARY:Adereth El Annual Wine Tasting
DESCRIPTION:The Adereth El Sisterhood will host its annual wine tasting event on Saturday night\, March 7\, 2020. Enjoy a pleasant evening of tasting and discussing wine. You will be able to order wine from our new wine store partner\, Skyview\, at excellent prices at the event. Stock up for Pesach and the rest of the year – your orders will be delivered on time for Pesach.  Family and friends welcome. \nAdmission is $10 per person for members\, $12 for non-members.
URL:https://www.aderethel.org/event/adereth-el-annual-wine-tasting/
LOCATION:Adereth El\, 133-135 East 29th Street\, New York\, NY\, 10016\, United States
CATEGORIES:Community,Food
ATTACH;FMTTYPE=application/pdf:https://www.aderethel.org/wp-content/uploads/2020/02/AE-wine-tasting-2020FINAL.pdf
END:VEVENT
BEGIN:VEVENT
DTSTART;TZID=America/New_York:20200301T113000
DTEND;TZID=America/New_York:20200301T130000
DTSTAMP:20260423T155536
CREATED:20200225T030021Z
LAST-MODIFIED:20200225T030031Z
UID:3358-1583062200-1583067600@www.aderethel.org
SUMMARY:Hamantaschen Bake
DESCRIPTION:
URL:https://www.aderethel.org/event/hamantaschen-bake/
LOCATION:Adereth El\, 133-135 East 29th Street\, New York\, NY\, 10016\, United States
CATEGORIES:Community,Food
ATTACH;FMTTYPE=image/jpeg:https://www.aderethel.org/wp-content/uploads/2020/02/UPDATED-Purim-Hamentashen-Bake-March-1-2020-scaled.jpg
END:VEVENT
BEGIN:VEVENT
DTSTART;TZID=America/New_York:20200228T183000
DTEND;TZID=America/New_York:20200228T213000
DTSTAMP:20260423T155536
CREATED:20200117T012453Z
LAST-MODIFIED:20200124T191958Z
UID:3328-1582914600-1582925400@www.aderethel.org
SUMMARY:Shabbat Across America Dinner
DESCRIPTION:The 24th Annual Shabbat Across America and Canada is February 28\, 2020.  Turn an ordinary Friday night into something extraordinary!  Come experience Shabbat with the Adereth El community as we hold our next community dinner at 6:30pm.  Adult Member $36 / Child Member $15 / Adult Non-Member $42 / Child Non-Member $18.  To RSVP please contact the Shul office or you can register on line at our website (Aderethel.org).  Please RSVP by Wednesday 2/19/2020.
URL:https://www.aderethel.org/event/3328/
LOCATION:Social Hall\, 133-135 East 29th Street\, New York\, NY\, 10016\, United States
CATEGORIES:Community,Food
ATTACH;FMTTYPE=image/jpeg:https://www.aderethel.org/wp-content/uploads/2020/01/Shabbat-Across-America-Friday-Night-Dinner-2.28.20.jpg
END:VEVENT
BEGIN:VEVENT
DTSTART;TZID=America/New_York:20191223T180000
DTEND;TZID=America/New_York:20191223T200000
DTSTAMP:20260423T155536
CREATED:20191119T060624Z
LAST-MODIFIED:20191210T045620Z
UID:3177-1577124000-1577131200@www.aderethel.org
SUMMARY:Annual Chanukah Party and Raffle
DESCRIPTION:Please join Adereth El Annual at our annual Chanukah Party on Monday December 23rd from 6-8pm.  It will be an evening of festive celebration\, food\, and of course some great raffle prizes.  Please support Adereth El and purchase your Raffle tickets.  A ticket is $25 and a book of 5 tickets is $100.  Admission to the party is $25 per Adult and $5 per child. \nTo purchase Raffle tickets please contact the shul office.  You need not be present to win! \n  \nBuy Raffle Tickets
URL:https://www.aderethel.org/event/annual-chanukah-party-and-raffle/
LOCATION:Social Hall\, 133-135 East 29th Street\, New York\, NY\, 10016\, United States
CATEGORIES:Community,Food,Music
ATTACH;FMTTYPE=image/jpeg:https://www.aderethel.org/wp-content/uploads/2019/11/Chanukah-Fler-FINAL-2019.jpg
END:VEVENT
BEGIN:VEVENT
DTSTART;TZID=America/New_York:20191213T173000
DTEND;TZID=America/New_York:20191213T200000
DTSTAMP:20260423T155536
CREATED:20191119T055613Z
LAST-MODIFIED:20191125T042740Z
UID:3174-1576258200-1576267200@www.aderethel.org
SUMMARY:Family Shabbat Dinner
DESCRIPTION:Adereth El and Aleph Bet NY invite you to join us for a Family Shabbat Dinner on Friday December 13th beginning at 5:30pm. There will be a fun sing-a-long and special children’s entertainment. \n\n$25 per Adult\n$10 per child ages 6 and up\nChildren ages 5 and under are free\n\nRSVP below or by contacting the office at (212) 685-0241 or info@aderethel.org \nRegister Now!!
URL:https://www.aderethel.org/event/family-shabbat-dinner/
LOCATION:Adereth El\, 133-135 East 29th Street\, New York\, NY\, 10016\, United States
CATEGORIES:Community,Food
ATTACH;FMTTYPE=image/jpeg:https://www.aderethel.org/wp-content/uploads/2019/11/Family-Shabbat-Dinner-12.13.jpg
END:VEVENT
BEGIN:VEVENT
DTSTART;TZID=America/New_York:20191208T180000
DTEND;TZID=America/New_York:20191208T210000
DTSTAMP:20260423T155536
CREATED:20191029T155532Z
LAST-MODIFIED:20191122T183518Z
UID:3137-1575828000-1575838800@www.aderethel.org
SUMMARY:2019 Adereth El Annual Gala
DESCRIPTION:Please join Adereth El on Sunday December 8th for the 2019 Annual Gala.   We are honored to welcome Guest Speaker\, Deputy General Consul of Israel\, Israel Nitzan. \nRSVP by contacting the office or by clicking below: \nRegister Now!!
URL:https://www.aderethel.org/event/annual-gala-2019/
LOCATION:Adereth El\, 133-135 East 29th Street\, New York\, NY\, 10016\, United States
CATEGORIES:Community,Food
ATTACH;FMTTYPE=image/jpeg:https://www.aderethel.org/wp-content/uploads/2019/10/invite2019.jpg
END:VEVENT
BEGIN:VEVENT
DTSTART;TZID=America/New_York:20191016T183000
DTEND;TZID=America/New_York:20191016T213000
DTSTAMP:20260423T155536
CREATED:20191008T031920Z
LAST-MODIFIED:20191008T031949Z
UID:3109-1571250600-1571261400@www.aderethel.org
SUMMARY:RAJE Presents Spice and Spirits in the Sukkah
DESCRIPTION:Join Shira and Rabbi Chef David Trakhtman\, owners of Passionate Catering\, Melbourne and Heart of Israel’s Wines’\, Tzvi Lauren for a talk and tasting that pairs six of Israel’s best wines with fine food from around the world. \n$20 on Eventbrite / $25 at the door \nSpice-and-spirits-in-the-sukkah.eventbrite.com \n 
URL:https://www.aderethel.org/event/raje-presents-spice-and-spirits-in-the-sukkah/
LOCATION:Adereth El\, 133-135 East 29th Street\, New York\, NY\, 10016\, United States
CATEGORIES:Community,Food
ATTACH;FMTTYPE=image/jpeg:https://www.aderethel.org/wp-content/uploads/2019/10/Raje-Sukkah-Event.jpg
END:VEVENT
BEGIN:VEVENT
DTSTART;TZID=America/New_York:20190627T190000
DTEND;TZID=America/New_York:20190627T210000
DTSTAMP:20260423T155536
CREATED:20190620T003755Z
LAST-MODIFIED:20190703T182009Z
UID:2950-1561662000-1561669200@www.aderethel.org
SUMMARY:J Box Challah Bake
DESCRIPTION:Adereth El invites you to discover a new and easy way of making Challah on Thursday June 27th at 7pm. \nA light dinner will be served. \n$18 for members / $20 for non members. \nGet your tickets at the door or online via the donation tab and include in the special comments “Challah Bake”. \nFeel free to also call the office at 212-685-0241 for more information. \n 
URL:https://www.aderethel.org/event/j-box-challah-bake/
LOCATION:Social Hall\, 133-135 East 29th Street\, New York\, NY\, 10016\, United States
CATEGORIES:Community,Food
ATTACH;FMTTYPE=image/jpeg:https://www.aderethel.org/wp-content/uploads/2019/06/JBox-Challah-Bake.jpg
END:VEVENT
BEGIN:VEVENT
DTSTART;TZID=America/New_York:20190623T110000
DTEND;TZID=America/New_York:20190623T150000
DTSTAMP:20260423T155536
CREATED:20190603T210316Z
LAST-MODIFIED:20190611T125515Z
UID:2908-1561287600-1561302000@www.aderethel.org
SUMMARY:Torah Dedication by Uri Naim Zilka
DESCRIPTION:For the first time in thirty years Adereth El will be receiving a new Torah.\nPlease  join us as we complete the writing of the Torah and joyously welcome it into its new home. \nGenerously Sponsored by Uri Naim Zilkha
URL:https://www.aderethel.org/event/torah-dedication-ceremony/
LOCATION:Main Sanctuary\, 133-135 East 29th Street\, New York\, NY\, 10016\, United States
CATEGORIES:Community,Food,Music
ATTACH;FMTTYPE=image/jpeg:https://www.aderethel.org/wp-content/uploads/2019/06/uri.jpg
END:VEVENT
BEGIN:VEVENT
DTSTART;TZID=America/New_York:20190615T113000
DTEND;TZID=America/New_York:20190615T130000
DTSTAMP:20260423T155536
CREATED:20190612T213806Z
LAST-MODIFIED:20190613T145057Z
UID:2940-1560598200-1560603600@www.aderethel.org
SUMMARY:Shoretz Kiddush - June 15th 2019
DESCRIPTION:We warmly invite the Adereth El community to join the Shoretz family in commemorating the 4th Yahrzeit of their beloved daughter\, Rochelle “Rochie” Shoretz A”H this Shabbat\, June 15th\, for Kiddush at 11:30AM. \nRochie was the Founder and Executive Director of Sharsheret\, supporting young Jewish women with breast cancer\, and was a law clerk in the United States Supreme Court for Ruth Bader Ginsburg\, amongst other notable achievements. Rochie succumbed to her own battle with breast cancer in 2015\, at the age of 42. \nJoin us in celebrating her life and memory\, and in recognizing the incredible work that her organization\, Sharsheret\, continues to do today.
URL:https://www.aderethel.org/event/shoretz-kiddush-june-15th-2019/
LOCATION:NY
CATEGORIES:Community,Food
ATTACH;FMTTYPE=image/jpeg:https://www.aderethel.org/wp-content/uploads/2019/06/Shoretz-Kiddush-1.jpg
END:VEVENT
BEGIN:VEVENT
DTSTART;TZID=America/New_York:20190610T120000
DTEND;TZID=America/New_York:20190610T150000
DTSTAMP:20260423T155536
CREATED:20190515T203849Z
LAST-MODIFIED:20190515T205200Z
UID:2887-1560168000-1560178800@www.aderethel.org
SUMMARY:Shavuot Luncheon
DESCRIPTION:Please join Adereth El for lunch on the 2nd day of Shavuot June 10th\, 2019.   \nPlease RSVP by June 3rd by contacting the Shul Office by phone 212-685-0241 or by at email info@Aderethel.org.
URL:https://www.aderethel.org/event/shavuot-luncheon/
LOCATION:NY
CATEGORIES:Community,Food
ATTACH;FMTTYPE=image/jpeg:https://www.aderethel.org/wp-content/uploads/2019/05/shavuot-lunch-2019.jpg
END:VEVENT
BEGIN:VEVENT
DTSTART;TZID=America/New_York:20190609T120000
DTEND;TZID=America/New_York:20190609T140000
DTSTAMP:20260423T155536
CREATED:20190524T151512Z
LAST-MODIFIED:20190524T151512Z
UID:2901-1560081600-1560088800@www.aderethel.org
SUMMARY:Shavuot Ice Cream Kiddush
DESCRIPTION:Come join us for Adereth El’s Shavuot Ice Cream Kiddush on Sunday 6/9. \nA special thanks to Max and Mina’s ice cream for graciously sponsoring this event.
URL:https://www.aderethel.org/event/shavuot-ice-cream-kiddush/
LOCATION:Social Hall\, 133-135 East 29th Street\, New York\, NY\, 10016\, United States
CATEGORIES:Community,Food
ATTACH;FMTTYPE=image/jpeg:https://www.aderethel.org/wp-content/uploads/2019/05/Ice-Cream-Kiddush-6.9.19-1.jpg
END:VEVENT
BEGIN:VEVENT
DTSTART;TZID=America/New_York:20190607T190000
DTEND;TZID=America/New_York:20190610T210000
DTSTAMP:20260423T155536
CREATED:20190607T171941Z
LAST-MODIFIED:20190607T171941Z
UID:2913-1559934000-1560200400@www.aderethel.org
SUMMARY:Shavuot Schedule
DESCRIPTION:ADERETH EL SHAVUOT SCHEDULE 2019
URL:https://www.aderethel.org/event/shavuot-schedule/
LOCATION:NY
CATEGORIES:Community,Food,Lecture Series
ATTACH;FMTTYPE=image/jpeg:https://www.aderethel.org/wp-content/uploads/2019/06/Shavuot-Schedule-2019.jpg
END:VEVENT
BEGIN:VEVENT
DTSTART;TZID=America/New_York:20190601T113000
DTEND;TZID=America/New_York:20190601T130000
DTSTAMP:20260423T155536
CREATED:20190515T202744Z
LAST-MODIFIED:20190515T205517Z
UID:2884-1559388600-1559394000@www.aderethel.org
SUMMARY:Pre-Father's Day Kiddush
DESCRIPTION:Come join Adereth El as we celebrate all the Father’s in our community with a Kiddush sponsored by the Adereth El Sisterhood. Contributions are welcome by contacting the Shul office at 212-685-0241.
URL:https://www.aderethel.org/event/pre-fathers-day-kiddush/
LOCATION:Social Hall\, 133-135 East 29th Street\, New York\, NY\, 10016\, United States
CATEGORIES:Community,Food
ATTACH;FMTTYPE=image/jpeg:https://www.aderethel.org/wp-content/uploads/2019/05/Copy-of-FATHERS-DAY-KIDDUSH-2018-e1557957284196.jpg
END:VEVENT
BEGIN:VEVENT
DTSTART;TZID=America/New_York:20190517T200000
DTEND;TZID=America/New_York:20190517T230000
DTSTAMP:20260423T155536
CREATED:20190501T204716Z
LAST-MODIFIED:20190501T210413Z
UID:2855-1558123200-1558134000@www.aderethel.org
SUMMARY:Friday Night Community Dinner
DESCRIPTION:Come join Adereth El for our  Friday night community dinner to Celebrate Israel (Yom Ha’atzmaut and Yom Yerushalayim) on May 17\, 2019 at 8pm in the Social Hall. \nMembers:  Adult: $36 / Child: $15 \nNon Members: Adult: $42 / Child: $18
URL:https://www.aderethel.org/event/friday-night-community-dinner/
LOCATION:Social Hall\, 133-135 East 29th Street\, New York\, NY\, 10016\, United States
CATEGORIES:Community,Food
ATTACH;FMTTYPE=image/png:https://www.aderethel.org/wp-content/uploads/2019/05/Friday-Night-Dinner-5.17.png
END:VEVENT
BEGIN:VEVENT
DTSTART;TZID=America/New_York:20190319T173000
DTEND;TZID=America/New_York:20190319T210000
DTSTAMP:20260423T155536
CREATED:20190208T181449Z
LAST-MODIFIED:20190208T181449Z
UID:2661-1553016600-1553029200@www.aderethel.org
SUMMARY:Purim Carnival
DESCRIPTION:Come join Adereth El on Tuesday March 19th at 5:30pm for our Annual Family Purim Carnival featuring a bounce house\, face painting\, games\, arts and crafts\, raffle prizes and more.  Don’t forget your costumes!   \nAdmission is $20 per Family\nRaffle Tickets: 5$ for 1 ticket or $20 for 5 tickets \nPizza available for purchase.
URL:https://www.aderethel.org/event/purim-carnival/
LOCATION:Social Hall\, 133-135 East 29th Street\, New York\, NY\, 10016\, United States
CATEGORIES:Community,Food,Music
ATTACH;FMTTYPE=image/jpeg:https://www.aderethel.org/wp-content/uploads/2019/02/Purim-Carnival-raffle-UPDATED.jpg
END:VEVENT
BEGIN:VEVENT
DTSTART;TZID=America/New_York:20190301T183000
DTEND;TZID=America/New_York:20190301T210000
DTSTAMP:20260423T155536
CREATED:20190128T150753Z
LAST-MODIFIED:20190128T150753Z
UID:2635-1551465000-1551474000@www.aderethel.org
SUMMARY:Friday Night Dinner-Shabbat Across America
DESCRIPTION:Join the Adereth El community for a warm and plentiful Friday-night dinner on March 1\, 2018\, at 6:30 PM to celebrate Shabbat Across America. Dinner will be preceded by Friday-night services at 5:35 PM. \n$36/Member Adult; $42/Non-Member Adult; $15/Member Child; $18/Non-Member Child \nPlease RSVP by Wednesday\, February 20th. \nTo RSVP please call (212) 685-0241\, email info@aderethel.org \nClick here to RSVP!!
URL:https://www.aderethel.org/event/friday-night-dinner-shabbat-across-america/
LOCATION:Social Hall\, 133-135 East 29th Street\, New York\, NY\, 10016\, United States
CATEGORIES:Community,Food
ATTACH;FMTTYPE=image/jpeg:https://www.aderethel.org/wp-content/uploads/2019/01/Shabbat-Dinner-Flyer-Shabbat-Across-America.jpg
END:VEVENT
BEGIN:VEVENT
DTSTART;TZID=America/New_York:20181130T173000
DTEND;TZID=America/New_York:20181130T173000
DTSTAMP:20260423T155536
CREATED:20181107T163644Z
LAST-MODIFIED:20181107T164252Z
UID:2477-1543599000-1543599000@www.aderethel.org
SUMMARY:Community Friday Night Dinner
DESCRIPTION:Join the Adereth El community for a warm and plentiful Friday-night dinner on November 30\, 2018\, at 5:30 PM. Preceded by spirited Carlebach-style Friday-night services at 4:35 PM. \n$36/Member Adult; $42/Non-Member Adult; $15/Member Child; $18/Non-Member Child \nTo RSVP please call (212) 685-0241 or email info@aderethel.org
URL:https://www.aderethel.org/event/community-friday-night-dinner-copy/
LOCATION:NY
CATEGORIES:Community,Food,Music
ATTACH;FMTTYPE=application/pdf:https://www.aderethel.org/wp-content/uploads/2018/11/Pizza-Photo-Dinner-Menu-1.pdf
END:VEVENT
BEGIN:VEVENT
DTSTART;TZID=America/New_York:20181116T173000
DTEND;TZID=America/New_York:20181116T173000
DTSTAMP:20260423T155536
CREATED:20181019T173336Z
LAST-MODIFIED:20181019T173336Z
UID:2448-1542389400-1542389400@www.aderethel.org
SUMMARY:Family Shabbat
DESCRIPTION:Adereth El & Aleph Bet Preschool invites you to join us for a Family Shabbat Dinner on Friday\, Novemember 16th at 5:30pm. The meal will be followed by singing\, story time and make your own dessert. \n$25/Adult; $10/Child over the age of 3. \nTo RSVP please call (212) 685-0241 or email info@aderethel.org
URL:https://www.aderethel.org/event/family-shabbat/
LOCATION:NY
CATEGORIES:Community,Food,Music
ATTACH;FMTTYPE=image/png:https://www.aderethel.org/wp-content/uploads/2018/10/FamilyShabbat_111618.png
END:VEVENT
BEGIN:VEVENT
DTSTART;TZID=America/New_York:20181109T163000
DTEND;TZID=America/New_York:20181110T140000
DTSTAMP:20260423T155536
CREATED:20181107T164819Z
LAST-MODIFIED:20181107T165150Z
UID:2485-1541781000-1541858400@www.aderethel.org
SUMMARY:Baruch College Hillel Shabbaton Weekend at Adereth El
DESCRIPTION:We are pleased to announce that on Shabbat\, November 9-10 Baruch College Hillel will be hosting a Shabbaton here at Adereth El. Kiddush this Shabbat will generously be sponsored by the Baruch College Hillel.
URL:https://www.aderethel.org/event/baruch-college-hillel-shabbaton-weekend-at-adereth-el/
LOCATION:Social Hall\, 133-135 East 29th Street\, New York\, NY\, 10016\, United States
CATEGORIES:Community,Food
ATTACH;FMTTYPE=application/pdf:https://www.aderethel.org/wp-content/uploads/2018/11/Copy-of-Shabbaton-11.09.18-3.pdf
END:VEVENT
BEGIN:VEVENT
DTSTART;TZID=America/New_York:20181027T113000
DTEND;TZID=America/New_York:20181027T133000
DTSTAMP:20260423T155536
CREATED:20181019T180710Z
LAST-MODIFIED:20181019T202847Z
UID:2461-1540639800-1540647000@www.aderethel.org
SUMMARY:Speaker: Weatherman Dave Price
DESCRIPTION:Join us on Shabbat when NY4 Weatherman Dave Price will give a lecture titled “Tales if a Kosher Weatherman” around 11:30am \nServices will be followed by a Kidsush honoring our persons of the year: Joseph & Olga Garay
URL:https://www.aderethel.org/event/news4ny-weatherman-guest-speaker-persons-of-the-year-kiddush/
LOCATION:Main Sanctuary\, 133-135 East 29th Street\, New York\, NY\, 10016\, United States
CATEGORIES:Community,Food
ATTACH;FMTTYPE=image/jpeg:https://www.aderethel.org/wp-content/uploads/2018/10/Red-with-Academy-Award-and-Stars-Hollywood-Prom-Poster-1.jpg
END:VEVENT
BEGIN:VEVENT
DTSTART;TZID=America/New_York:20180927T180000
DTEND;TZID=America/New_York:20180927T200000
DTSTAMP:20260423T155536
CREATED:20180913T123810Z
LAST-MODIFIED:20180913T164221Z
UID:2411-1538071200-1538078400@www.aderethel.org
SUMMARY:Sukkot Bar-B-Que
DESCRIPTION:Save the date for an evening of fun\, friends and food on Thursday\, September 27 at 6:00 PM. Come say hello to your old friends and make some new ones too! Children ages two and below\, join us for free.\nRSVP to the Shul office (212) 685-0241\n$25/adult\, $15/child\, $65/family. \nBurger BBQ Birthday Invitation (Portrait) \nRSVP for this event
URL:https://www.aderethel.org/event/sukkot-bbq-2018/
LOCATION:Social Hall\, 133-135 East 29th Street\, New York\, NY\, 10016\, United States
CATEGORIES:Community,Food
ATTACH;FMTTYPE=image/jpeg:https://www.aderethel.org/wp-content/uploads/2018/05/bbq.jpg
END:VEVENT
BEGIN:VEVENT
DTSTART;TZID=America/New_York:20180616T113000
DTEND;TZID=America/New_York:20180616T130000
DTSTAMP:20260423T155536
CREATED:20180515T142301Z
LAST-MODIFIED:20180515T142301Z
UID:2055-1529148600-1529154000@www.aderethel.org
SUMMARY:Father's Day Kiddush
DESCRIPTION:Our annual tradition continues as we honor the dedicated fathers in our community. \nHelp honor the fathers of our Shul and community by sharing in Kiddush sponsorship. \nClick here to be a sponsor
URL:https://www.aderethel.org/event/fathers-day-kiddush/
LOCATION:Social Hall\, 133-135 East 29th Street\, New York\, NY\, 10016\, United States
CATEGORIES:Community,Food
ATTACH;FMTTYPE=image/jpeg:https://www.aderethel.org/wp-content/uploads/2018/05/hall01.jpg
END:VEVENT
BEGIN:VEVENT
DTSTART;TZID=America/New_York:20180610T170000
DTEND;TZID=America/New_York:20180610T200000
DTSTAMP:20260423T155536
CREATED:20180515T135702Z
LAST-MODIFIED:20180601T021927Z
UID:2039-1528650000-1528660800@www.aderethel.org
SUMMARY:Spring Bar-B-Que
DESCRIPTION:Save the date for an evening of fun\, friends and food on Sunday\, June 10 at 5:00 PM. Come say hello to your old friends and make some new ones too! Children ages two and below\, join us for free.\nRSVP to the Shul office by June 5 for the early bird special:\n$25/adult\, $15/child\, $65/family. \nAfter June 5\, the cost is:\n$30/adult\, $20/child\, $75/family. \nRSVP for this event
URL:https://www.aderethel.org/event/spring-bar-b-que/
LOCATION:Social Hall\, 133-135 East 29th Street\, New York\, NY\, 10016\, United States
CATEGORIES:Community,Food
ATTACH;FMTTYPE=image/jpeg:https://www.aderethel.org/wp-content/uploads/2018/05/bbq.jpg
END:VEVENT
END:VCALENDAR